BEGIN:VCALENDAR
VERSION:2.0
PRODID:-//Tukios.com/
BEGIN:VEVENT
UID:ebeec76a-c1e2-4b6c-ba0f-db210cbedad3@www.ravenchoate.com
DTSTAMP:20260425T200602Z
DTSTART:20260429T140000Z
DTEND:20260429T160000Z
SUMMARY:Visitation
DESCRIPTION:
URL:https://www.ravenchoate.com/obituaries/june-robbins
LOCATION: 1202 West Kem Road  Marion IN 46952
GEO:40.5748672;-85.6728503
END:VEVENT
END:VCALENDAR