BEGIN:VCALENDAR
VERSION:2.0
PRODID:-//Tukios.com/
BEGIN:VEVENT
UID:78245cdf-cfdd-4222-81d2-7d49e8c215e6@www.ravenchoate.com
DTSTAMP:20260425T200515Z
DTSTART:20260429T160000Z
DTEND:20260429T170000Z
SUMMARY:Funeral Service
DESCRIPTION:
URL:https://www.ravenchoate.com/obituaries/june-robbins
LOCATION: 1202 West Kem Road  Marion IN 46952
GEO:40.5748672;-85.6728503
END:VEVENT
END:VCALENDAR