BEGIN:VCALENDAR
VERSION:2.0
PRODID:-//Tukios.com/
BEGIN:VEVENT
UID:696e6c7f-b453-4926-9f84-c374869cab72@www.ravenchoate.com
DTSTAMP:20260425T200602Z
DTSTART:20260429
SUMMARY:Burial
DESCRIPTION:Burial will follow immediately after funeral services at 
	Maple Grove Cemetery, County Rd. 500 W, Sweetser, Indiana.
Pastor Dale 
	Schuiteman will officiate.
URL:https://www.ravenchoate.com/obituaries/june-robbins
LOCATION:  County Road 500 West  Sweetser IN 
GEO:40.5718246;-85.7691976
END:VEVENT
END:VCALENDAR